BEGIN:VCALENDAR
VERSION:2.0
PRODID:http://www.infomax-online.de/imxeventmanager/
METHOD:PUBLISH
BEGIN:VTIMEZONE
TZID:Europe/Berlin
TZURL:http://tzurl.org/zoneinfo-outlook/Europe/Berlin
X-LIC-LOCATION:Europe/Berlin
END:VTIMEZONE
BEGIN:VEVENT
UID:69e88aa4962b1
LOCATION:Ludwigstr. 18a, 83646 Bad Tölz
SUMMARY:BM Beckenboden Fortgeschrittene
DESCRIPTION:Prävention von Beschwerden von Blase und Beckenboden\, Urkraft spüren\, Sinnlichkeit genießen. Die Muskeln des Beckenbodens geben zusammen mit Bauch und Rückenmuskeln der Wirbelsäule Halt und Stabilität und bilden das Fundament für eine gute Körperhaltung. Ein dynamischer Beckenboden ist sowohl kraftvoll\, als auch elastisch und beweglich.

Anmeldung: Yvonne Heinl\, info@physio-heinl.de oder Tel. 0152 04628709.
URL;VALUE=URI:https://www.toelzer-land.de/e-bm-beckenboden-fortgeschrittene
CLASS:PUBLIC
DTSTAMP:20260422T104524
DTSTART:20260421T174500
DTEND:20260421T184500
END:VEVENT
END:VCALENDAR