BEGIN:VCALENDAR
VERSION:2.0
PRODID:http://www.infomax-online.de/imxeventmanager/
METHOD:PUBLISH
BEGIN:VTIMEZONE
TZID:Europe/Berlin
TZURL:http://tzurl.org/zoneinfo-outlook/Europe/Berlin
X-LIC-LOCATION:Europe/Berlin
END:VTIMEZONE
BEGIN:VEVENT
UID:69e5a6ebc675e
LOCATION:Dorfplatz 4, 83671 Benediktbeuern
SUMMARY:Festgottesdienst zum Kirchweihfest
DESCRIPTION:mitgestaltet vom Basilikachor
URL;VALUE=URI:https://www.toelzer-land.de/e-festgottesdienst-zum-kirchweihfest
CLASS:PUBLIC
DTSTAMP:20260420T060915
DTSTART:20261018T100000
DTEND:20261019T000000
END:VEVENT
END:VCALENDAR