BEGIN:VCALENDAR
VERSION:2.0
PRODID:http://www.infomax-online.de/imxeventmanager/
METHOD:PUBLISH
BEGIN:VTIMEZONE
TZID:Europe/Berlin
TZURL:http://tzurl.org/zoneinfo-outlook/Europe/Berlin
X-LIC-LOCATION:Europe/Berlin
END:VTIMEZONE
BEGIN:VEVENT
UID:69e73ca5bfa8a
LOCATION:Museum Wolfratshausen , 82515 Wolfratshausen / Geretsried
SUMMARY:Lange Nacht der Demokratie - Gemeinsame Aktion unserer drei lokalen Museen
DESCRIPTION:Am Vorabend des Tages der Deutschen Einheit wollen wir in unterschiedlichen Formaten über Demokratie nachdenken\, diskutieren und gemeinsam unsere freiheitlich-demokratische Grundordnung feiern. In unseren Museen in Geretsried\, Waldram und Wolfratshausen machen wir demokratische Werte erlebbar und laden dazu ein\, miteinander ins Gespräch zu kommen und unterschiedliche Perspektiven auszutauschen.Es erwartet Sie u.a. ein interaktiver Demokratieparcours\, der spielerisch und zugleich informativ zentrale Fragen unserer Demokratie aufgreift: Welche Rolle spielt unsere Geschichte für die Gegenwart? Wie funktioniert politische Mitbestimmung? Was bedeutet Demokratie im Alltag? An verschiedenen Stationen können Gäste ihr politisch-historisches Wissen testen – vom spontanen Vorbeischauen bis zum intensiven Erkunden ist alles möglich.Aufbauend auf der bewährten Kooperation mit einem Kombiticket beteiligen sich die drei Museen in Geretsried\, Waldram und Wolfratshausen in einer gemeinsamen Aktion erstmalig an der langen Nacht der Demokratie. Alle drei Häusern sind durch einen historischen Shuttelbus verbunden.Detaillierte Informationen erhalten Sie im Vorfeld auf unserer Website und im Newsletter.In Kooperation mit dem Bayerischen Volkshochschulverband.➜ Ort: Erinnerungsort BADEHAUS\, Museum der Stadt Geretsried & Museum Wolfratshausen
URL;VALUE=URI:https://www.toelzer-land.de/e-lange-nacht-der-demokratie-gemeinsame-aktion-unserer-drei-lokalen-museen
CLASS:PUBLIC
DTSTAMP:20260421T110021
DTSTART:20261002T170000
DTEND:20261002T220000
END:VEVENT
END:VCALENDAR