BEGIN:VCALENDAR
VERSION:2.0
PRODID:http://www.infomax-online.de/imxeventmanager/
METHOD:PUBLISH
BEGIN:VTIMEZONE
TZID:Europe/Berlin
TZURL:http://tzurl.org/zoneinfo-outlook/Europe/Berlin
X-LIC-LOCATION:Europe/Berlin
END:VTIMEZONE
BEGIN:VEVENT
UID:69e73ca681d60
LOCATION:Moosrundweg 1, 83671 Benediktbeuern
SUMMARY:Moor – Lebensraum und Schutz
DESCRIPTION:Moore sind wahre Alleskönner. Sie fungieren als riesige Schwämme und schützen uns vor Hochwasser.
Das Ausgangssubstrat der Moore\, der Torf\, kann bis zu 500 t Kohlenstoff pro Hektar im ersten Meter der Bodenschicht
speichern. Flora und Fauna in den Mooren sind sehr spezialisiert.
Durch Abbau und Trockenlegung von Mooren sind diese Lebensräume extrem vom Aussterben bedroht.
Erfahren Sie hautnah\, wie sich Moorlebensräume schützen und gleichzeitig nachhaltig nutzen lassen.

Anmeldung bis 10.09.26 unter www.kloster-benediktbeuern.de 

Spende erbeten

 
URL;VALUE=URI:https://www.toelzer-land.de/e-moor-lebensraum-und-schutz
CLASS:PUBLIC
DTSTAMP:20260421T110022
DTSTART:20260912T100000
DTEND:20260912T120000
END:VEVENT
END:VCALENDAR