BEGIN:VCALENDAR
VERSION:2.0
PRODID:http://www.infomax-online.de/imxeventmanager/
METHOD:PUBLISH
BEGIN:VTIMEZONE
TZID:Europe/Berlin
TZURL:http://tzurl.org/zoneinfo-outlook/Europe/Berlin
X-LIC-LOCATION:Europe/Berlin
END:VTIMEZONE
BEGIN:VEVENT
UID:69e73c661e974
LOCATION:Vichyplatz 1, 83646 Bad Tölz
SUMMARY:Lieselotte lauert !
DESCRIPTION:Figurentheater für Kinder ab zwei Jahren Lieselotte lauertLieselotte lauertAuf dem Bauernhof ist einiges los: Kuh Lieselotte liebt es\, sich zu verstecken – besonders\, um den Postboten zu erschrecken! Doch dabei geht nicht immer alles nach Plan. Mit Hilfe der Bäuerin\, der Ziege\, des Hundes und der lustigen Hühner entsteht ein turbulentes\, witziges Theaterabenteuer voller Überraschungen\, Lachen und Mitmach-Momenten für Kinder ab 3 Jahren.
URL;VALUE=URI:https://www.toelzer-land.de/e-lieselotte-lauert
CLASS:PUBLIC
DTSTAMP:20260421T105918
DTSTART:20270116T110000
DTEND:20270116T120000
END:VEVENT
END:VCALENDAR