BEGIN:VCALENDAR
VERSION:2.0
PRODID:http://www.infomax-online.de/imxeventmanager/
METHOD:PUBLISH
BEGIN:VTIMEZONE
TZID:Europe/Berlin
TZURL:http://tzurl.org/zoneinfo-outlook/Europe/Berlin
X-LIC-LOCATION:Europe/Berlin
END:VTIMEZONE
BEGIN:VEVENT
UID:69ed1e2832439
LOCATION:Zeilerweg 2, 83671 Benediktbeuern
SUMMARY:Unterwegs mit dem Gebietsbetreuer
DESCRIPTION:Entdeckungen in den Loisach-Kochelsee-Mooren

Was ist eigentlich Moor und warum ist es wichtig\, Moore zu schützen? Wie ist diese wertvolle Landschaft entstanden? Antworten auf diese und viele weitere Fragen gibt diese Exkursion. Gemeinsam gehen wir auf Entdeckungsreise\, welche Tiere im Moor leben und welche Pflanzen auf Streuwiesen blühen. Kommen Sie mit!

Referent: Jonathan Hehr

Anmeldung: www.zuk-bb.de/Veranstaltungskalender

Eintritt frei\, Spende erbeten.
URL;VALUE=URI:https://www.toelzer-land.de/e-unterwegs-mit-dem-gebietsbetreuer
CLASS:PUBLIC
DTSTAMP:20260425T220352
DTSTART:20260613T090000
DTEND:20260613T120000
END:VEVENT
END:VCALENDAR