BEGIN:VCALENDAR
VERSION:2.0
PRODID:http://www.infomax-online.de/imxeventmanager/
METHOD:PUBLISH
BEGIN:VTIMEZONE
TZID:Europe/Berlin
TZURL:http://tzurl.org/zoneinfo-outlook/Europe/Berlin
X-LIC-LOCATION:Europe/Berlin
END:VTIMEZONE
BEGIN:VEVENT
UID:69eb9c5d8b602
LOCATION:Dorfplatz 4, 83671 Benediktbeuern
SUMMARY:Firmung
DESCRIPTION:In einem feierlichen Gottesdienst in der Marienkirche wird den Firmlingen der Pfarreiengemeinschaft Benediktbeuern mit Bichl und Kochel a. See das Sakrament der Firmung gespendet.

Die Firmlinge der Pfarreiengemeinschaft bereiten sich ca. ein halbes Jahr auf diesen Tag vor. In Gruppentreffen\, Gottesdiensten und anderen Veranstaltungen setzen sie sich mit den Inhalten der Glaubens auseinander.

Beim Firmgottesdienst bekennen sie sich zu diesem Glauben. Im Sakrament der Firmung empfangen sie den Heiligen Geist als Stärkung für ihren weiteren Lebensweg.
URL;VALUE=URI:https://www.toelzer-land.de/e-firmung-2
CLASS:PUBLIC
DTSTAMP:20260424T183749
DTSTART:20260725T100000
DTEND:20260725T110000
END:VEVENT
END:VCALENDAR