BEGIN:VCALENDAR
VERSION:2.0
PRODID:http://www.infomax-online.de/imxeventmanager/
METHOD:PUBLISH
BEGIN:VTIMEZONE
TZID:Europe/Berlin
TZURL:http://tzurl.org/zoneinfo-outlook/Europe/Berlin
X-LIC-LOCATION:Europe/Berlin
END:VTIMEZONE
BEGIN:VEVENT
UID:69e89f28d9455
LOCATION:Marktstraße, Bahnhofstraße, Schützenstraße , 83661 Lenggries
SUMMARY:LichterZauber im Advent
DESCRIPTION:Der Christkindlmarkt "Lichterzauber" findet am Samstag\, 5. Dezember 2026 von 15 bis 21 Uhr statt. Der ganze Ortskern von Lenggries wird sich in einen Christkindlmarkt verwandeln. In den letzten Jahren sorgten ca. 45 Standlbetreiber und 30 Geschäfte für weihnachtlichen Lichterzauber\, Schmankerl und interessante Geschenk- und Dekorationsideen. Von hausgemachten Lebkuchenherzen über handgestrickte modische Schals und Mützen\, bis zu Zirbenkissen und Energie-Schmusebären wird alles geboten. Auch kulinarisch wird Traditionelles angeboten genau so wie besondere Leckereien. Für die Kinder: um ca. 16 Uhr kommt der Nikolaus und verteilt mit seinen Engeln 500 Weihnachtspäckchen. Tausende von Kerzen und weihnachtliche Musik sorgen für vorweihnachtliche Stimmung und machen den "Lichterzauber" zum unvergesslichen Tag.
URL;VALUE=URI:https://www.toelzer-land.de/e-lichterzauber-im-advent-2
CLASS:PUBLIC
DTSTAMP:20260422T121256
DTSTART:20261205T150000
DTEND:20261205T210000
END:VEVENT
END:VCALENDAR